BEGIN:VCALENDAR
VERSION:2.0
PRODID:-//FilmSim - ECPv6.15.16//NONSGML v1.0//EN
CALSCALE:GREGORIAN
METHOD:PUBLISH
X-ORIGINAL-URL:https://filmsim.co.uk
X-WR-CALDESC:Events for FilmSim
REFRESH-INTERVAL;VALUE=DURATION:PT1H
X-Robots-Tag:noindex
X-PUBLISHED-TTL:PT1H
BEGIN:VTIMEZONE
TZID:Europe/London
BEGIN:DAYLIGHT
TZOFFSETFROM:+0000
TZOFFSETTO:+0100
TZNAME:BST
DTSTART:20250330T010000
END:DAYLIGHT
BEGIN:STANDARD
TZOFFSETFROM:+0100
TZOFFSETTO:+0000
TZNAME:GMT
DTSTART:20251026T010000
END:STANDARD
BEGIN:DAYLIGHT
TZOFFSETFROM:+0000
TZOFFSETTO:+0100
TZNAME:BST
DTSTART:20260329T010000
END:DAYLIGHT
BEGIN:STANDARD
TZOFFSETFROM:+0100
TZOFFSETTO:+0000
TZNAME:GMT
DTSTART:20261025T010000
END:STANDARD
BEGIN:DAYLIGHT
TZOFFSETFROM:+0000
TZOFFSETTO:+0100
TZNAME:BST
DTSTART:20270328T010000
END:DAYLIGHT
BEGIN:STANDARD
TZOFFSETFROM:+0100
TZOFFSETTO:+0000
TZNAME:GMT
DTSTART:20271031T010000
END:STANDARD
END:VTIMEZONE
BEGIN:VEVENT
DTSTART;VALUE=DATE:20260801
DTEND;VALUE=DATE:20260803
DTSTAMP:20260421T133506
CREATED:20251013T234348Z
LAST-MODIFIED:20260416T190215Z
UID:10000102-1785542400-1785715199@filmsim.co.uk
SUMMARY:Deltas of Suhud - 1990s
DESCRIPTION:FilmSim events is proud to present… \nDeltas of Suhud.  1990s \nPostcard from Aqaba\nZungola region \n1st & 2nd August 2026 \nGunman Eversley ALPHA \n£75 for the weekend\, only 30 a side \nTickets must be secured by means of a non-refundable deposit of £35 below. £40 balance due on arrival \nStory:\nJuly 10th 1992. \nLocation: Zungola region\, \nAfter the successful mission to stop the Suhudian military from posing a threat to Israel\, NATO UK and US units have been redeployed from the Gulf of Aqaba to a small Egyptian fishing village where due to a heighten state of security across Suhud\, the must use the dense Talwar forest to arrive in Me’dan. South East of Zungola. Here\, they must try to win the hearts of locals. \nThe evidence of a link with Suhud and Slavivan President Sovis has now been confirmed and this special alliance is causing global concern. The Suhudian Security Service\, S3\, has benefited massively from their new Head of Security\, the Slavivan Kolon Maxim who has decades of experience working with and against western security services. \nAs agreed by General Waqqas on his ‘Day of Days speech’ to the people of Suhud when he seized power\, the regional governors must go through a voting process. By the people\, for the people. \nZungola has been seen as an opportunity for NATO to try and influence a more sympathetic governor to the old exiled president. Me’dan is about to become the centre of world news. \nMission brief and Update inbound… \nPlease visit the https://www.facebook.com/groups/1686982478259650 and join our community for updates and mission briefs. \nWELCOME to FilmSim…\nWelcome to FilmSim events and Gunman Airsoft’s 1990s series of airsoft experiences. Rather than choose a historical setting\, we have chosen to make up a country in the Middle East and will introduce many others as we go. To give the game a small pedigree\, we have chosen a few real world things of the 1990s to help bring our fictional country to life. This is an airsoft game using equipment and period looking kit of the 1990s without it being factual. \nSIDES.\n30 x NATO – any Arid/desert period clothing from any NATO country. However\, we don’t want 1 or 2 guys in the same clothing\, better to have at least a small unit of 4 or more. \nMixed green and desert or all desert/Arid only! No pure green. \nWeapons – NATO issue only (NO AK) \n  \n30 x Forces of Suhud – \nSuhudian Army – OG top and bottom or soviet Flora BDU uniform. All must be complete top and bottom matching\, no mixed OG and Camo. \nWebbing\, OG or Black. \nSecurity S3 operatives – Eastern block \nAK variants only. \nSuhud tribesmen – Anti NATO. Arab clothing\, any pre 1980s weapons. \n  \nTimings \nArrival Friday night for a social. \nSaturday – 08.00am registration. \n09.30am Briefings and out. This game will end 27 hours later at 1300hrs\, 1pm Sunday. \n  \nWe will have a huge pile of FREE loan uniforms and period correct rifles available for £20 for the weekend. A small shop will be provided too. \nTickets are nonrefundable but you can sell them on if you can’t make the game.
URL:https://filmsim.co.uk/event/deltas-of-suhud-1990s-aug-2026/
LOCATION:Gunman Airsoft Eversley – Alpha Site\, Gunman Airsoft Eversley\, The Welsh Dr\, Hook\, Hampshire\, RG27 0PX\, United Kingdom
CATEGORIES:1990s Middle East
ATTACH;FMTTYPE=image/jpeg:https://filmsim.co.uk/wp-content/uploads/2021/02/1990s.jpg
END:VEVENT
BEGIN:VEVENT
DTSTART;VALUE=DATE:20260801
DTEND;VALUE=DATE:20260803
DTSTAMP:20260421T133506
CREATED:20260323T163028Z
LAST-MODIFIED:20260323T163028Z
UID:10000127-1785542400-1785715199@filmsim.co.uk
SUMMARY:Private Site Hire - Tuddenham (1st August 2026 Weekend)
DESCRIPTION:Tuddenham Site Hire Information\nOverview\nHire our Tuddeham site exclusively for your own event. The venue will be available for your use from Friday through Sunday\, offering complete access and privacy for your group. \nPricing & Booking\n\nWeekend Hire Cost: £1\,500 (This covers up to 30 Players)\nAdditional Players: £30 per person (This is for any Players above your first 30)\nSecurity Deposit: £800 (non-refundable)\nFinal Balance: Due no later than 28 days prior to your hire date\n\nYour booking is only confirmed once the £800 security deposit has been received. The final payment must be made by the due date to retain your reservation. \nSite Access & Timings\n\nArrival: From 9:00 on Friday (Earlier access can be arranged to be to on Thursday with an extra cost of £150)\nDeparture: From 15:00 on Sunday\n\nA member of our team will be on-site during handover to confirm the area has been left clean and tidy.\n\n\n\nFacilities Included\n\nToilets: Two portable toilets included (additional units available at £150 each)\nRubbish: There is a skip for general waste. Please ensure waste is in bin liners.\n\nFacilities Not Included\n\nPower: There is no power on site. The admin building has lighting and socket outlets installed which can be powered by a portable generator. You will need a lead with a 32A socket to connect your generator to the wall inlet.\nInsurance: Event insurance not included. This can be arranged through us at an additional cost if required.\nWater: There is no running water on site. You will need to bring any water required for drinking or washing with you.\n\nTerms & Conditions\nBy booking\, you agree to the following: \n\nDeposit & Payment\n\nThe £800 deposit is non-refundable and secures your booking.\nThe remaining balance must be paid no later than 28 days before your event.\nAny additional charges incurred during your hire must be settled by the end of the hire period.\n\n\nInsurance & Permissions\n\nYou are responsible for arranging adequate event insurance\, unless otherwise agreed.\nIf your event requires a Temporary Event Notice (TEN)\, you must confirm with us before applying\, as only a limited number are permitted each year.\n\n\nSite Rules\n\nThe site must be left clean and tidy at the end of your hire.\nNo music or loud noise after 23:00.\nAll vehicles must not exceed 10mph anywhere on site.\n\n\n\n  \nContact\nIf you have any questions before paying your deposit\, please contact us via email\n\nPayments and Booking Via Email: sales@filmsim.co.uk or phone: 07711774461\n\nWe’re happy to discuss your event requirements in advance. \nThe Tuddenham Team. 
URL:https://filmsim.co.uk/event/private-site-hire-tuddenham-1st-august-2026-weekend/
LOCATION:Gunman Airsoft Tuddenham – Suffolk\, Gunman Airsoft - Tuddenham\, Cavenham Road\, United Kingdom
CATEGORIES:Private Site Hire
END:VEVENT
END:VCALENDAR