BEGIN:VCALENDAR
VERSION:2.0
PRODID:-//FilmSim - ECPv6.15.16//NONSGML v1.0//EN
CALSCALE:GREGORIAN
METHOD:PUBLISH
X-WR-CALNAME:FilmSim
X-ORIGINAL-URL:https://filmsim.co.uk
X-WR-CALDESC:Events for FilmSim
REFRESH-INTERVAL;VALUE=DURATION:PT1H
X-Robots-Tag:noindex
X-PUBLISHED-TTL:PT1H
BEGIN:VTIMEZONE
TZID:Europe/London
BEGIN:DAYLIGHT
TZOFFSETFROM:+0000
TZOFFSETTO:+0100
TZNAME:BST
DTSTART:20250330T010000
END:DAYLIGHT
BEGIN:STANDARD
TZOFFSETFROM:+0100
TZOFFSETTO:+0000
TZNAME:GMT
DTSTART:20251026T010000
END:STANDARD
BEGIN:DAYLIGHT
TZOFFSETFROM:+0000
TZOFFSETTO:+0100
TZNAME:BST
DTSTART:20260329T010000
END:DAYLIGHT
BEGIN:STANDARD
TZOFFSETFROM:+0100
TZOFFSETTO:+0000
TZNAME:GMT
DTSTART:20261025T010000
END:STANDARD
BEGIN:DAYLIGHT
TZOFFSETFROM:+0000
TZOFFSETTO:+0100
TZNAME:BST
DTSTART:20270328T010000
END:DAYLIGHT
BEGIN:STANDARD
TZOFFSETFROM:+0100
TZOFFSETTO:+0000
TZNAME:GMT
DTSTART:20271031T010000
END:STANDARD
END:VTIMEZONE
BEGIN:VEVENT
DTSTART;VALUE=DATE:20260606
DTEND;VALUE=DATE:20260608
DTSTAMP:20260421T104043
CREATED:20251013T232904Z
LAST-MODIFIED:20260416T185941Z
UID:10000100-1780704000-1780876799@filmsim.co.uk
SUMMARY:Vietnam: June 2026
DESCRIPTION:FilmSim Events in association with Gunman Airsoft proudly presents…\nJune Nam – Hidden Tiger\n\nPlease note: We are no longer offering Saturday only tickets. You are still welcome to leave after Saturday’s gaming has finished if you wish (please let us know if this is your intention to help us with planning)\, but we’d love very much for you to stay with us and play out the culmination of story events on the Sunday morning if you can.\n\nAll tickets are secured with a £35 non-refundable deposit below\, balance of £40 to be paid on arrival.\n\n\n£75 for the weekend with a £35 deposit \n  \nBattle of Ong Thanh – November 18 1967 aftermath\nThe battle for Ong Thang has ended and many have been killed on both sides. With a minor US victory a short respite is about to get turned on its head. \nThe NVA 251st Regiment of the 9th Division and a number of veteran VC independent companies couldn’t sustain their pressure when desperately need supplies couldn’t get through the US blockade and have instead resorted to hit and run attacks on begun making new tunnel systems. \nB Company – Elements \nPlatoons 1st\, 2nd\, 3rd\, 1st Recon and a needed MASH Medic Core have been dropped into as casivac isn’t on option at this time. Bodies need to be gathered\, dog tags collected and preparation for a mass evac of the dead made ready. \nOur story follows a desperate situation for the US troops on the ground and an opportunity for the beaten NVA to take use of the US ‘leave no man behind’ ideology. Bodies need to be recovered and prepped. Full mission briefs will be released a week before the event after we see what numbers we have. \n  \nThe search for the ‘KIAs’ is on… \n  \nSIDES.\nFor this one\, we will be opening the bookings with two sides. \nUS:\nUS 25th infantry (Green machine) \nAus SAS \n\nNVA:\n\nVC 272nd Civilian (PJs) \nPAVN 14th Regiment (NVA Greens and pith helmet) \n  \nBoth sides will have a fixed and out of game HQ with maps and radios. \n  \nWelcome to the War guys\nHi all and welcome to the next instalment of our epic Vietnam story.  This is a full on FilmSim experience and everyone will be expected to play his or her part.  Like Milsim\, you may not be pulling your trigger all of the time\, however when the shit hits the fan\, it will really mean something.  We hope everyone can get fully immersed\, live\, eat and breathe the 1960s conflict. \nOn this note as many may have seen from Facebook announcements\, only one small group of Navy seals will be allowed as we have started to notice a trend of more guys wanting to go SF. The NAM game is supposed to be all about the grunts on the ground for both sides. \n  \nWe can offer full rental kit for anyone that needs if for free and period rifles are only £20 for the weekend. This will include 3 x 30rnd mags to get you going. \n  \nFor this game you will need: \nFull camping equipment \nWater – drinking \nAirsoft Kit (if you have it) \nFood and booze for the socials. \n  \nPlease try to bring and use period (ish) kit only if you can\, NOTHING modern looking can be taken into the field or it MUST be disguised to not break the immersion of the camp. \nThere will be an out of game camping area too for guys will plastic tents. \nWE HAVE A HUGE PILE OF FREE LOAD KIT TOO!! \n  \nGame times.\nFriday \nGates open at 3pm for those that want to get onsite early. \n  \nSaturday \nRegistration re-opens at 8.00am \nBriefing at 9.30am \nGame starts around 10am \nGame will finish when it finishes! \n  \nSunday \nBriefing at 9.30am \nGame will re-start at 10am \nGame will finish no later than 1pm \n  \nWe will provide field radios and maps for the commanders in the field.  PLEASE do not bring personal comms\, only platoon radios will be allocated and used.
URL:https://filmsim.co.uk/event/vietnam-jun-2026/
LOCATION:Gunman Airsoft Eversley – Alpha Site\, Gunman Airsoft Eversley\, The Welsh Dr\, Hook\, Hampshire\, RG27 0PX\, United Kingdom
CATEGORIES:Vietnam
ATTACH;FMTTYPE=image/jpeg:https://filmsim.co.uk/wp-content/uploads/2021/11/Nam.jpg
END:VEVENT
BEGIN:VEVENT
DTSTART;VALUE=DATE:20260606
DTEND;VALUE=DATE:20260608
DTSTAMP:20260421T104043
CREATED:20260323T162938Z
LAST-MODIFIED:20260323T162938Z
UID:10000126-1780704000-1780876799@filmsim.co.uk
SUMMARY:Private Site Hire - Tuddenham (6th June 2026 Weekend)
DESCRIPTION:Tuddenham Site Hire Information\nOverview\nHire our Tuddeham site exclusively for your own event. The venue will be available for your use from Friday through Sunday\, offering complete access and privacy for your group. \nPricing & Booking\n\nWeekend Hire Cost: £1\,500 (This covers up to 30 Players)\nAdditional Players: £30 per person (This is for any Players above your first 30)\nSecurity Deposit: £800 (non-refundable)\nFinal Balance: Due no later than 28 days prior to your hire date\n\nYour booking is only confirmed once the £800 security deposit has been received. The final payment must be made by the due date to retain your reservation. \nSite Access & Timings\n\nArrival: From 9:00 on Friday (Earlier access can be arranged to be to on Thursday with an extra cost of £150)\nDeparture: From 15:00 on Sunday\n\nA member of our team will be on-site during handover to confirm the area has been left clean and tidy.\n\n\n\nFacilities Included\n\nToilets: Two portable toilets included (additional units available at £150 each)\nRubbish: There is a skip for general waste. Please ensure waste is in bin liners.\n\nFacilities Not Included\n\nPower: There is no power on site. The admin building has lighting and socket outlets installed which can be powered by a portable generator. You will need a lead with a 32A socket to connect your generator to the wall inlet.\nInsurance: Event insurance not included. This can be arranged through us at an additional cost if required.\nWater: There is no running water on site. You will need to bring any water required for drinking or washing with you.\n\nTerms & Conditions\nBy booking\, you agree to the following: \n\nDeposit & Payment\n\nThe £800 deposit is non-refundable and secures your booking.\nThe remaining balance must be paid no later than 28 days before your event.\nAny additional charges incurred during your hire must be settled by the end of the hire period.\n\n\nInsurance & Permissions\n\nYou are responsible for arranging adequate event insurance\, unless otherwise agreed.\nIf your event requires a Temporary Event Notice (TEN)\, you must confirm with us before applying\, as only a limited number are permitted each year.\n\n\nSite Rules\n\nThe site must be left clean and tidy at the end of your hire.\nNo music or loud noise after 23:00.\nAll vehicles must not exceed 10mph anywhere on site.\n\n\n\n  \nContact\nIf you have any questions before paying your deposit\, please contact us via email\n\nPayments and Booking Via Email: sales@filmsim.co.uk or phone: 07711774461\n\nWe’re happy to discuss your event requirements in advance. \nThe Tuddenham Team. 
URL:https://filmsim.co.uk/event/private-site-hire-tuddenham-6th-june-2026-weekend/
LOCATION:Gunman Airsoft Tuddenham – Suffolk\, Gunman Airsoft - Tuddenham\, Cavenham Road\, United Kingdom
CATEGORIES:Private Site Hire
END:VEVENT
BEGIN:VEVENT
DTSTART;VALUE=DATE:20260627
DTEND;VALUE=DATE:20260629
DTSTAMP:20260421T104043
CREATED:20260213T101932Z
LAST-MODIFIED:20260213T101932Z
UID:10000124-1782518400-1782691199@filmsim.co.uk
SUMMARY:Stalkers: Heat Wave
DESCRIPTION:Stalkers: Heat Wave\n\nVenue: Gunman Airsoft – Camp Alpha (Eversley\, Hampshire)\n\nDate: 27th & 28th June 2026\nPrice: £85 secured by £45 non-refundable deposit\, tickets are strictly limited and must be reserved below. The remaining £40 balance is due on arrival.\nArrival from Friday after 1pm \nStory:\nThe Zone boils. Wounded\, it lashes out. Like a fevered body purging infection\, it hunts the source of its agony\, seeking to cauterise the wound with fire and fury. The STALKERS of the Vulture STALKER Syndicate are that infection\, and the Zone has no mercy left to offer.\n\nAs the STALKERS press toward the Cernavodă Nuclear Power Plant\, the air thickens with radiation\, each breath more dangerous than the last. Mutated horrors descend upon them with death in their eyes. Anomalies writhe across the landscape\, malignant and unpredictable. Deadliest of all\, the Monolith’s fanatical cultists mobilise\, determined to end the STALKERS’ advance forever. The Zone demands retribution for the missile that reshaped it.\n\nThe land itself closes in. Rot chokes the forest and swallows the path forward. Gnarled flora twists skyward from mouldering earth\, and the carcasses of mutants and STALKERS alike decay into the mulch below. Desperate for survival\, the Zone vomits forth nightmare after nightmare\, struggling to restore balance in the wake of devastation.\n\nYet every STALKER knows one truth. Where danger thrives\, fortune follows. Artifacts lie where anomalies burn brightest. Relics of the old world lie buried beneath ash and dust. Mutants carry scavenged remnants of long-forgotten lives. The Monolith fields its most zealous\, well-armed warriors.\n\nThe storm gathers.\n\nWill the STALKERS endure once more?\nWill the Monolith succeed in defending their sacred wasteland?\nOr will the Zone consume them all and use their remains to mend its shattered soul?\n\n\n\n\n\nInvited to our party are 7 of each team:\n\nEagles\nWolves\nDragons\nSnakes\nHounds\n\n\n\n\n\nJoin our Group on FaceBook!\n\n\n\n\nAs with all Filmsim Stalkers games\, there will multiple teams\, all trying to win the favour and fame of wasteland settlements in the form of food chits.  These are bought with bullets\, which are gained through adventures in the wasteland\, gambling and skulduggery. \nTo help secure the stalker teams\, there will be 5 teams you can book onto. This means if we get single players or small groups booking on\, we can make sure we get full teams. All the teams will be encouraged to use a private group on facebook to organise themselves and let us help craft your teams together. \nThese stalker groups can have whatever set up you want as long as one takes the command role (no one needs to be in charge\, but they get the radios) and a Tinker Engineer\, otherwise you won’t be coming home with loot. \nAny period camo can be used but we have added some simple ideas to help get the feels. Each member will get a badge for the team there in and remember….it has to be camo from 90s or civilian!! \nExample…\nGreen trousers\, British woodland smock Commander\, Glock 17 with two mags holding 12 rounds in each\, 2 two way radios\, rucksack with water\, 1 days rations\, sterilised water\, bottle of alcohol (medicinal) some pegs and rope 30ft. Old brit 58 patter canvas webbing with mixed pouches for quick stashing and two extra respirator filters (3 B Grade 20 min filters) to give him an extra 40 mins in the field and a compass. Also extra gels and respirator just in case his other one gets damaged. \n \nEngineer\, Revolver with 6 rounds and a pump shotgun with 10 shells\, small toolbox and a few battery powered tools. Respirator with 3 grade b filters\, large rucksack for stash. Wrench and crowbar. Also has some electronics and a small gas-powered stove. Also using 58 pattern webbing\, these pouches are filled with all sorts of lubricants and oils in small plastic jars. Water and a 1 day ration pack. \nOther than guns and ammo\, filters and radios\, all the other supplies in the bags are owned by the players in case they come in handy. \n \nIMPORTANT – The game has a mechanic for ammo and filters. Its important EVERYONE PLAYS with the real steel ammo limits loaded in mags. We have a load of cartridges which can be found in game or gambled with and will be worth x when traded in at a trader for more usable ammo. We have chosen dollars as it was a damn site easier to get hold of as a prop. \nCurrency in the game is easy too. \n$ Dollars or Bullets(Cartridges) which we will be suppling!!! \nUse these to buy chits and supplies.
URL:https://filmsim.co.uk/event/stalkers-heat-wave/
LOCATION:Gunman Airsoft Eversley – Alpha Site\, Gunman Airsoft Eversley\, The Welsh Dr\, Hook\, Hampshire\, RG27 0PX\, United Kingdom
CATEGORIES:Stalkers - Post Apocalyptic
ATTACH;FMTTYPE=image/jpeg:https://filmsim.co.uk/wp-content/uploads/2026/02/stalkers-jun-2026.jpg
END:VEVENT
END:VCALENDAR