BEGIN:VCALENDAR
VERSION:2.0
PRODID:-//FilmSim - ECPv6.15.16//NONSGML v1.0//EN
CALSCALE:GREGORIAN
METHOD:PUBLISH
X-ORIGINAL-URL:https://filmsim.co.uk
X-WR-CALDESC:Events for FilmSim
REFRESH-INTERVAL;VALUE=DURATION:PT1H
X-Robots-Tag:noindex
X-PUBLISHED-TTL:PT1H
BEGIN:VTIMEZONE
TZID:Europe/London
BEGIN:DAYLIGHT
TZOFFSETFROM:+0000
TZOFFSETTO:+0100
TZNAME:BST
DTSTART:20240331T010000
END:DAYLIGHT
BEGIN:STANDARD
TZOFFSETFROM:+0100
TZOFFSETTO:+0000
TZNAME:GMT
DTSTART:20241027T010000
END:STANDARD
BEGIN:DAYLIGHT
TZOFFSETFROM:+0000
TZOFFSETTO:+0100
TZNAME:BST
DTSTART:20250330T010000
END:DAYLIGHT
BEGIN:STANDARD
TZOFFSETFROM:+0100
TZOFFSETTO:+0000
TZNAME:GMT
DTSTART:20251026T010000
END:STANDARD
BEGIN:DAYLIGHT
TZOFFSETFROM:+0000
TZOFFSETTO:+0100
TZNAME:BST
DTSTART:20260329T010000
END:DAYLIGHT
BEGIN:STANDARD
TZOFFSETFROM:+0100
TZOFFSETTO:+0000
TZNAME:GMT
DTSTART:20261025T010000
END:STANDARD
END:VTIMEZONE
BEGIN:VEVENT
DTSTART;VALUE=DATE:20251115
DTEND;VALUE=DATE:20251117
DTSTAMP:20260419T154839
CREATED:20250711T104114Z
LAST-MODIFIED:20250711T104114Z
UID:10000091-1763164800-1763337599@filmsim.co.uk
SUMMARY:Red Mist 7: Interdiction
DESCRIPTION:Red Mist 7: Interdiction\n\n\nOperation Statant continues with WARPAC and NATO forces battling along the Elbe as the latter launches crossings. During the small hours of the night an unidentified aircraft has crashed in the woods to the East of Klietznick. WARPAC forces at Jerichow and a NATO force at Furstland have pushed patrols into the woods to investigate. \nAbout\nWelcome to the next installment of our series set in 1985 in a fictional scenario where the Cold War in Europe gets hot! Players will join a faction where using period uniforms\, weapons and kit they will undertake objectives and missions assigned to them by a dedicated command team for an authentic 1980s experience. \n\n\n\n\nTickets are £75 per person for the weekend\, secured by a non-refundable deposit paid below.\n\n\n\nSides\n\nNATO forces (UK/US)\n\nWARPAC forces (DDR/USSR)\n\n\n\nWhat do we do?\n\n\n\n\nFilmSim events were born from a love of Airsoft\, films\, computer games and role-play. Our specialist themed events are a mixture of role-play and airsoft which are designed to give the players the feeling of being a character in a film. To achieve this\, we try to strike a balance between realism and fun which will be different for each type of event.\n\nOur Themed Events are ticket only premium experiences which last over two days. They are not intended as “walk-on” days and have uniform\, weapon and equipment restrictions which must be adhered to to assure an immersive experience for everyone.\n\nOur focus is on delivering an immersive experience to our customers. Players will work in units to achieve realistic military themed objectives over the course of the weekend. Each faction is run by a dedicated command team who are there to ensure your experience is the best that we can deliver. We have an extensive range of props including many period items that will be used to deliver the authenticity and create immersion.\n\nPlayers are expected to wear the correct clothing\, carry appropriate weapons and equipment as well as buying into the story and role-playing their character. Expect a lot less shooting than an open day skirmish – players are expected to work together\, obey orders and rules of engagement and stay “on-mission”.\n\nWhat can I expect?\n\nEngagements are usually fast and furious\, with the preference being to break contact and rethink your approach rather than get involved in a sustained firefight with multiple casualties – grab your wounded and bug out!\n\nIn most of our weekend events we go guns down in the evening sometimes with the option of night missions for those who want them\, before resuming the following day. Players are encouraged to stay in character in the evening and camp in the game zone where possible. On an evening we encourage our players to socialise and will provide facilities for each team to do so in their dedicated camping area.\n\nCheck out our Cold War Airsoft Facebook Page for more details
URL:https://filmsim.co.uk/event/red-mist-7-interdiction/
LOCATION:Gunman Airsoft Bulby (Lincolnshire)\, Irnham\, Bourne PE10 0RU\, Peterborough\, Lincolnshire\, PE10 0RU\, United Kingdom
CATEGORIES:1980s Cold War
ATTACH;FMTTYPE=image/jpeg:https://filmsim.co.uk/wp-content/uploads/2025/07/Red-Mist_7.jpg
END:VEVENT
BEGIN:VEVENT
DTSTART;VALUE=DATE:20251122
DTEND;VALUE=DATE:20251124
DTSTAMP:20260419T154839
CREATED:20250903T233213Z
LAST-MODIFIED:20250903T233213Z
UID:10000092-1763769600-1763942399@filmsim.co.uk
SUMMARY:Stalkers: Security index - Georgia
DESCRIPTION:Stalkers: Security index – Georgia\n\nRumble In Romania\n\nVenue: Gunman Airsoft Tuddenham\, Suffolk\nDate: 22nd & 23rd November 2025\nPrice: £85 secured by £45 non-refundable deposit\, tickets are strictly limited and must be reserved below. The remaining £40 balance is due on arrival.\nArrival from Friday after 1pm \n\n“Due to its Soviet past\, Georgia has a decommissioned nuclear reactor\, three nuclear research institutes\, and military bases with radioactive contamination. It does not have or make nuclear\, chemical\, or biological weapons\, and participates in major non-proliferation treaties”\n“1992”‘Well worth a look and rummage’ – Uri\, VSS\n \nLocation: Gardaban power station\, South of Rustavi.Controlled by Metro-Polis\nThis station was being scavenged by Metro-Polis since the collapse but after long months of observation Vulture hasn’t seen any activity around the old Nuclear station and have targeted the Alpha plants research labs for scavenging. A disused cluster of buildings has been cleared and a safe zone set up.\nGood luck and may the best team win fame and glory…\n \n\n\nFinal update will be released two weeks prior to the stalkers arrival.\n \n5 civilian settlements will benefit from the charity of Vulture for this operation.\n\n\n\n\nInvited to our party are 7 of each team:\n\nEagles\nWolves\nDragons\nSnakes\nHounds\n\n\nThe Bears have gone mad and no longer able to function as a stalker team. They have NOT been invited but may be present\, not as part of the Vulture Stalkers Syndicate\n\n\n\nJoin our Group on FaceBook!\n\n\n\n\nAs with all Filmsim Stalkers games\, there will multiple teams\, all trying to win the favour and fame of wasteland settlements in the form of food chits.  These are bought with bullets\, which are gained through adventures in the wasteland\, gambling and skulduggery. \nTo help secure the stalker teams\, there will be 5 teams you can book onto. This means if we get single players or small groups booking on\, we can make sure we get full teams. All the teams will be encouraged to use a private group on facebook to organise themselves and let us help craft your teams together. \nThese stalker groups can have whatever set up you want as long as one takes the command role (no one needs to be in charge\, but they get the radios) and a Tinker Engineer\, otherwise you won’t be coming home with loot. \nAny period camo can be used but we have added some simple ideas to help get the feels. Each member will get a badge for the team there in and remember….it has to be camo from 90s or civilian!! \nExample…\nGreen trousers\, British woodland smock Commander\, Glock 17 with two mags holding 12 rounds in each\, 2 two way radios\, rucksack with water\, 1 days rations\, sterilised water\, bottle of alcohol (medicinal) some pegs and rope 30ft. Old brit 58 patter canvas webbing with mixed pouches for quick stashing and two extra respirator filters (3 B Grade 20 min filters) to give him an extra 40 mins in the field and a compass. Also extra gels and respirator just in case his other one gets damaged. \n \nEngineer\, Revolver with 6 rounds and a pump shotgun with 10 shells\, small toolbox and a few battery powered tools. Respirator with 3 grade b filters\, large rucksack for stash. Wrench and crowbar. Also has some electronics and a small gas-powered stove. Also using 58 pattern webbing\, these pouches are filled with all sorts of lubricants and oils in small plastic jars. Water and a 1 day ration pack. \nOther than guns and ammo\, filters and radios\, all the other supplies in the bags are owned by the players in case they come in handy. \n \nIMPORTANT – The game has a mechanic for ammo and filters. Its important EVERYONE PLAYS with the real steel ammo limits loaded in mags. We have a load of cartridges which can be found in game or gambled with and will be worth x when traded in at a trader for more usable ammo. We have chosen dollars as it was a damn site easier to get hold of as a prop. \nCurrency in the game is easy too. \n$ Dollars or Bullets(Cartridges) which we will be suppling!!! \nUse these to buy chits and supplies.
URL:https://filmsim.co.uk/event/stalkers-security-index-georgia/
LOCATION:Gunman Airsoft Tuddenham – Suffolk\, Gunman Airsoft - Tuddenham\, Cavenham Road\, United Kingdom
CATEGORIES:Stalkers - Post Apocalyptic
ATTACH;FMTTYPE=image/jpeg:https://filmsim.co.uk/wp-content/uploads/2025/09/stalkers-nov-2025.jpg
END:VEVENT
END:VCALENDAR